BEGIN:VCALENDAR
VERSION:2.0
PRODID:-//Allgemeiner Fakultätentag - ECPv6.0.9//NONSGML v1.0//EN
CALSCALE:GREGORIAN
METHOD:PUBLISH
X-WR-CALNAME:Allgemeiner Fakultätentag
X-ORIGINAL-URL:https://allgemeiner-fakultaetentag.de
X-WR-CALDESC:Veranstaltungen für Allgemeiner Fakultätentag
REFRESH-INTERVAL;VALUE=DURATION:PT1H
X-Robots-Tag:noindex
X-PUBLISHED-TTL:PT1H
BEGIN:VTIMEZONE
TZID:Europe/Berlin
BEGIN:DAYLIGHT
TZOFFSETFROM:+0100
TZOFFSETTO:+0200
TZNAME:CEST
DTSTART:20200329T010000
END:DAYLIGHT
BEGIN:STANDARD
TZOFFSETFROM:+0200
TZOFFSETTO:+0100
TZNAME:CET
DTSTART:20201025T010000
END:STANDARD
BEGIN:DAYLIGHT
TZOFFSETFROM:+0100
TZOFFSETTO:+0200
TZNAME:CEST
DTSTART:20210328T010000
END:DAYLIGHT
BEGIN:STANDARD
TZOFFSETFROM:+0200
TZOFFSETTO:+0100
TZNAME:CET
DTSTART:20211031T010000
END:STANDARD
END:VTIMEZONE
BEGIN:VEVENT
DTSTART;VALUE=DATE:20210702
DTEND;VALUE=DATE:20210703
DTSTAMP:20260419T161321
CREATED:20210715T112800Z
LAST-MODIFIED:20210715T112800Z
UID:906-1625184000-1625270399@allgemeiner-fakultaetentag.de
SUMMARY:FTPs: Plenarversammlung 2021
DESCRIPTION:
URL:https://allgemeiner-fakultaetentag.de/event/ftps-plenarversammlung-2021/
END:VEVENT
BEGIN:VEVENT
DTSTART;VALUE=DATE:20210624
DTEND;VALUE=DATE:20210627
DTSTAMP:20260419T161321
CREATED:20201203T151742Z
LAST-MODIFIED:20201203T151742Z
UID:724-1624492800-1624751999@allgemeiner-fakultaetentag.de
SUMMARY:PhFT: Plenarversammlung Universität Braunschweig
DESCRIPTION:
URL:https://allgemeiner-fakultaetentag.de/event/phft-plenarversammlung-universitaet-braunschweig/
LOCATION:Braunschweig\, Deutschland
END:VEVENT
BEGIN:VEVENT
DTSTART;VALUE=DATE:20210617
DTEND;VALUE=DATE:20210619
DTSTAMP:20260419T161321
CREATED:20201203T155049Z
LAST-MODIFIED:20201203T155140Z
UID:746-1623888000-1624060799@allgemeiner-fakultaetentag.de
SUMMARY:FTEI: Plenarversammlung 2021
DESCRIPTION:
URL:https://allgemeiner-fakultaetentag.de/event/ftei-plenarversammlung-2021/
LOCATION:Magdeburg\, Deutschland
END:VEVENT
BEGIN:VEVENT
DTSTART;VALUE=DATE:20210506
DTEND;VALUE=DATE:20210508
DTSTAMP:20260419T161321
CREATED:20201203T151025Z
LAST-MODIFIED:20201203T151911Z
UID:715-1620259200-1620431999@allgemeiner-fakultaetentag.de
SUMMARY:EWFT: Wissenschaftliche Tagung und Plenarversammlung an der Universität der Bundeswehr München
DESCRIPTION:
URL:https://allgemeiner-fakultaetentag.de/event/ewft-wissenschaftliche-tagung-und-plenarversammlung-an-der-universitaet-der-bundeswehr-muenchen/
LOCATION:München\, München\, Bayern\, Deutschland
END:VEVENT
BEGIN:VEVENT
DTSTART;VALUE=DATE:20210128
DTEND;VALUE=DATE:20210131
DTSTAMP:20260419T161321
CREATED:20201203T152328Z
LAST-MODIFIED:20201203T152328Z
UID:731-1611792000-1612051199@allgemeiner-fakultaetentag.de
SUMMARY:KThF: Jahresversammlung 2021
DESCRIPTION:
URL:https://allgemeiner-fakultaetentag.de/event/kthf-jahresversammlung-2021/
LOCATION:Mainz\, Deutschland
END:VEVENT
BEGIN:VEVENT
DTSTART;VALUE=DATE:20200610
DTEND;VALUE=DATE:20200612
DTSTAMP:20260419T161321
CREATED:20201203T151323Z
LAST-MODIFIED:20201203T151810Z
UID:720-1591747200-1591919999@allgemeiner-fakultaetentag.de
SUMMARY:WISOFT: 70. Mitgliederversammlung in Linz
DESCRIPTION:
URL:https://allgemeiner-fakultaetentag.de/event/70-mitgliederversammlung-in-linz/
LOCATION:Linz
END:VEVENT
END:VCALENDAR